BEGIN:VCALENDAR
VERSION:2.0
PRODID:-//Austin AI Alliance - ECPv6.15.20//NONSGML v1.0//EN
CALSCALE:GREGORIAN
METHOD:PUBLISH
X-ORIGINAL-URL:https://austin-ai.org
X-WR-CALDESC:Events for Austin AI Alliance
REFRESH-INTERVAL;VALUE=DURATION:PT1H
X-Robots-Tag:noindex
X-PUBLISHED-TTL:PT1H
BEGIN:VTIMEZONE
TZID:America/Chicago
BEGIN:DAYLIGHT
TZOFFSETFROM:-0600
TZOFFSETTO:-0500
TZNAME:CDT
DTSTART:20240310T080000
END:DAYLIGHT
BEGIN:STANDARD
TZOFFSETFROM:-0500
TZOFFSETTO:-0600
TZNAME:CST
DTSTART:20241103T070000
END:STANDARD
BEGIN:DAYLIGHT
TZOFFSETFROM:-0600
TZOFFSETTO:-0500
TZNAME:CDT
DTSTART:20250309T080000
END:DAYLIGHT
BEGIN:STANDARD
TZOFFSETFROM:-0500
TZOFFSETTO:-0600
TZNAME:CST
DTSTART:20251102T070000
END:STANDARD
BEGIN:DAYLIGHT
TZOFFSETFROM:-0600
TZOFFSETTO:-0500
TZNAME:CDT
DTSTART:20260308T080000
END:DAYLIGHT
BEGIN:STANDARD
TZOFFSETFROM:-0500
TZOFFSETTO:-0600
TZNAME:CST
DTSTART:20261101T070000
END:STANDARD
END:VTIMEZONE
BEGIN:VEVENT
DTSTART;TZID=America/Chicago:20250611T173000
DTEND;TZID=America/Chicago:20250611T213000
DTSTAMP:20260424T025159
CREATED:20250529T211027Z
LAST-MODIFIED:20250529T211049Z
UID:10000017-1749663000-1749677400@austin-ai.org
SUMMARY:AI Agent World Tour in Austin
DESCRIPTION:Agent World Tour: Austin\n\n​🔐100 Engineers Only | No Fluff. Just Signal. \n​📍 Austin\, TX | 🗓️ June 11\, 2025 | 🕡 5:30 PM | 📌 Parkside Restaurant – 301 E 6th St\, Austin\, TX 78701\nCost: Free – Food and nearby parking provided \nReservations will close on June 6\, 2025 or earlier if we reach 100 participants. \nJoin us for an exclusive evening of Lightining Talks⚡\, Networking and at the cutting edge Agentic AI! \nThe AI Agents World Tour lands in Austin\, co-hosted by Google and the MLOps Community. This is your chance to connect with Google top engineers\, share real-world insights\, and explore the future of intelligent agents—whether you’re just starting out or deploying at scale. \n\n​6:30 – 6:45 PM \n​Arrival\, Registration & Networking \n​6:45 – 6:50 PM \n​Welcome & Opening Remarks \n​6:50 – 7:00 PM \n​🎤 Keynote – The Big Why: Agentic AI Roadmap\n​Sagar Kewalramani\, Google AI Practice Lead\n\n​⚡ Lightning Talk 2: From Code to Commit – AI in DevOps by \n​Akshay Mittal\, Staff Software Engineer at PayPal\n\n​Explore how agents are reshaping engineering workflows\, from \n\n​⚡ Lightning Talk 3: Architecting Agentic Solutions at Scale\n​Christianna Clark\, Gen AI Solutions Architect at Google\n\n\n​Rolling out Agents in Production\n​A practical discussion on early adoption\, real-world rollouts\, LLM Evaluatilonsand what it takes to operationalize agentic AI across industries. \nMario Lazo at UiPath – Pilot and Rolling out Agents in Production \n\n​Ari Heljakka\, PhD\, Founder at RootSignals.ai – Agent Self-correction with Agent Evals MCP \n\n\n\n​Vikram Ahuja at Cognizant – Exec Level Approach for Agents \n\n​Arham Choudhury at CMB- Master of Ceremonies \n\n\n\n​ \n🧢 Don’t Miss Out – Reservations will close on June 6\, 2025 or earlier if we reach 100 limit. \n​Expect giveaways\, thought leadership\, and the opportunity to be part of shaping the next wave of agent-driven AI.
URL:https://austin-ai.org/event/ai-agent-world-tour-in-austin/
LOCATION:Parkside\, 301 E 6th St.\, Austin\, TX\, 78701\, United States
ATTACH;FMTTYPE=image/jpeg:https://austin-ai.org/wp-content/uploads/2025/05/IMG_0367.jpeg
END:VEVENT
END:VCALENDAR