BEGIN:VCALENDAR
VERSION:2.0
PRODID:-//Austin AI Alliance - ECPv6.15.20//NONSGML v1.0//EN
CALSCALE:GREGORIAN
METHOD:PUBLISH
X-ORIGINAL-URL:https://austin-ai.org
X-WR-CALDESC:Events for Austin AI Alliance
REFRESH-INTERVAL;VALUE=DURATION:PT1H
X-Robots-Tag:noindex
X-PUBLISHED-TTL:PT1H
BEGIN:VTIMEZONE
TZID:America/Chicago
BEGIN:DAYLIGHT
TZOFFSETFROM:-0600
TZOFFSETTO:-0500
TZNAME:CDT
DTSTART:20240310T080000
END:DAYLIGHT
BEGIN:STANDARD
TZOFFSETFROM:-0500
TZOFFSETTO:-0600
TZNAME:CST
DTSTART:20241103T070000
END:STANDARD
BEGIN:DAYLIGHT
TZOFFSETFROM:-0600
TZOFFSETTO:-0500
TZNAME:CDT
DTSTART:20250309T080000
END:DAYLIGHT
BEGIN:STANDARD
TZOFFSETFROM:-0500
TZOFFSETTO:-0600
TZNAME:CST
DTSTART:20251102T070000
END:STANDARD
BEGIN:DAYLIGHT
TZOFFSETFROM:-0600
TZOFFSETTO:-0500
TZNAME:CDT
DTSTART:20260308T080000
END:DAYLIGHT
BEGIN:STANDARD
TZOFFSETFROM:-0500
TZOFFSETTO:-0600
TZNAME:CST
DTSTART:20261101T070000
END:STANDARD
END:VTIMEZONE
BEGIN:VEVENT
DTSTART;VALUE=DATE:20250527
DTEND;VALUE=DATE:20250529
DTSTAMP:20260424T025157
CREATED:20250513T233836Z
LAST-MODIFIED:20250513T233836Z
UID:10000014-1748304000-1748476799@austin-ai.org
SUMMARY:Agentic AI Virtual Conference by Data Science Dojo
DESCRIPTION:📅 Agentic AI Virtual Conference by Data Science Dojo: May 27 and 28\, 2025. 👀 \nCheck out this virtual conference later this month! Speakers include thought leaders in industry who will talk about all aspects of building agentic AI applications – covering everything from cutting-edge agentic frameworks to retrieval systems\, observability\, and guardrails for safe\, trustworthy AI. Sessions Include: \n– Transforming Knowledge Work with AI\n↳ AI Teammates and the Future of Human-AI Collaboration\n– Inside the Mind of an AI Agent\n↳ Agentic Frameworks\, Planning\, Memory and Tools\n– From Recall to Context-Aware Reasoning\n↳ Architecting Retrieval Systems for Agentic AI\n– Designing Trustworthy Agents\n↳ Observability\, Guardrails and Evaluation in Agentic Systems \nRegister here: https://hubs.la/Q03jkdPY0
URL:https://austin-ai.org/event/agentic-ai-virtual-conference-by-data-science-dojo/
LOCATION:TX
ATTACH;FMTTYPE=image/jpeg:https://austin-ai.org/wp-content/uploads/2025/05/IMG_0355.jpeg
END:VEVENT
END:VCALENDAR