BEGIN:VCALENDAR
VERSION:2.0
PRODID:-//Austin AI Alliance - ECPv6.15.20//NONSGML v1.0//EN
CALSCALE:GREGORIAN
METHOD:PUBLISH
X-WR-CALNAME:Austin AI Alliance
X-ORIGINAL-URL:https://austin-ai.org
X-WR-CALDESC:Events for Austin AI Alliance
REFRESH-INTERVAL;VALUE=DURATION:PT1H
X-Robots-Tag:noindex
X-PUBLISHED-TTL:PT1H
BEGIN:VTIMEZONE
TZID:America/Chicago
BEGIN:DAYLIGHT
TZOFFSETFROM:-0600
TZOFFSETTO:-0500
TZNAME:CDT
DTSTART:20240310T080000
END:DAYLIGHT
BEGIN:STANDARD
TZOFFSETFROM:-0500
TZOFFSETTO:-0600
TZNAME:CST
DTSTART:20241103T070000
END:STANDARD
BEGIN:DAYLIGHT
TZOFFSETFROM:-0600
TZOFFSETTO:-0500
TZNAME:CDT
DTSTART:20250309T080000
END:DAYLIGHT
BEGIN:STANDARD
TZOFFSETFROM:-0500
TZOFFSETTO:-0600
TZNAME:CST
DTSTART:20251102T070000
END:STANDARD
BEGIN:DAYLIGHT
TZOFFSETFROM:-0600
TZOFFSETTO:-0500
TZNAME:CDT
DTSTART:20260308T080000
END:DAYLIGHT
BEGIN:STANDARD
TZOFFSETFROM:-0500
TZOFFSETTO:-0600
TZNAME:CST
DTSTART:20261101T070000
END:STANDARD
END:VTIMEZONE
BEGIN:VEVENT
DTSTART;TZID=America/Chicago:20250520T190000
DTEND;TZID=America/Chicago:20250520T210000
DTSTAMP:20260424T061503
CREATED:20250513T234439Z
LAST-MODIFIED:20250513T234439Z
UID:10000015-1747767600-1747774800@austin-ai.org
SUMMARY:Databricks Meetup
DESCRIPTION:📣 Data is the foundation of the AI revolution — and Databricks is the engine powering it. As organizations race to unlock the full potential of AI\, platforms like Databricks are becoming essential for building scalable\, secure\, and intelligent data-driven systems. \n🚀 Join us for the inaugural Databricks Meetup in Austin! \n📅 Date: Tuesday\, May 20\, 2025\n🕖 Time: 7:00 PM\n📍 Location: Qubika Office – 1141 Shady Lane\, Suite 305\, Austin\, TX 78721 \n🎤 Featured Speakers: \nSamaya Madhavan\, Senior Solutions Architect at DatabricksWith 15+ years in software and AI\, Samaya specializes in building scalable data platforms and teaches “Deep Learning with Keras and TensorFlow” on Coursera.Sebastian Diaz\, Head of Data & AI at QubikaA seasoned leader in data strategy and machine learning\, Sebastian has spoken at major conferences including the Disney Data & Analytics Conference and MinneAnalytica.\n💡 What to Expect: \nExpert talks on architecture\, ML workflows\, and Databricks best practicesReal-world demos and practical insightsFood\, drinks\, and networking with Austin’s growing data & AI community\n👉 RSVP now: https://www.meetup.com/austin-databricks/events/307427397/
URL:https://austin-ai.org/event/databricks-meetup/
LOCATION:TX
ATTACH;FMTTYPE=image/jpeg:https://austin-ai.org/wp-content/uploads/2025/05/IMG_0356.jpeg
END:VEVENT
END:VCALENDAR