BEGIN:VCALENDAR
VERSION:2.0
PRODID:-//Austin AI Alliance - ECPv6.15.20//NONSGML v1.0//EN
CALSCALE:GREGORIAN
METHOD:PUBLISH
X-ORIGINAL-URL:https://austin-ai.org
X-WR-CALDESC:Events for Austin AI Alliance
REFRESH-INTERVAL;VALUE=DURATION:PT1H
X-Robots-Tag:noindex
X-PUBLISHED-TTL:PT1H
BEGIN:VTIMEZONE
TZID:America/Chicago
BEGIN:DAYLIGHT
TZOFFSETFROM:-0600
TZOFFSETTO:-0500
TZNAME:CDT
DTSTART:20240310T080000
END:DAYLIGHT
BEGIN:STANDARD
TZOFFSETFROM:-0500
TZOFFSETTO:-0600
TZNAME:CST
DTSTART:20241103T070000
END:STANDARD
BEGIN:DAYLIGHT
TZOFFSETFROM:-0600
TZOFFSETTO:-0500
TZNAME:CDT
DTSTART:20250309T080000
END:DAYLIGHT
BEGIN:STANDARD
TZOFFSETFROM:-0500
TZOFFSETTO:-0600
TZNAME:CST
DTSTART:20251102T070000
END:STANDARD
BEGIN:DAYLIGHT
TZOFFSETFROM:-0600
TZOFFSETTO:-0500
TZNAME:CDT
DTSTART:20260308T080000
END:DAYLIGHT
BEGIN:STANDARD
TZOFFSETFROM:-0500
TZOFFSETTO:-0600
TZNAME:CST
DTSTART:20261101T070000
END:STANDARD
END:VTIMEZONE
BEGIN:VEVENT
DTSTART;TZID=America/Chicago:20250408T183000
DTEND;TZID=America/Chicago:20250408T200000
DTSTAMP:20260424T061515
CREATED:20250328T162719Z
LAST-MODIFIED:20250328T162719Z
UID:10000009-1744137000-1744142400@austin-ai.org
SUMMARY:Best LLM & GenAI Pro Tips\, Tricks\, and Hacks
DESCRIPTION:Show us your skills! Share your knowledge with others! \nChatbots\, LLMs\, and generative AI (GenAI) tools in general are adding features rapidly and have become powerful tools capable of teaching\, translating\, summarizing\, analyzing\, and even reasoning. LLMs in 2025 are more than party tricksâ€”these are tools that can change your life if you learn how to use them powerfully. Join us for a meetup to share your expertise\, demos\, and tips to help others increase their effective usage of LLMs and/or watch and listen to others share their pro tips! Bring your devices to show how to get the most out of these tools and try new things out. Youâ€™ll become a powerful (or\, more powerful) LLM user by 8 pm!
URL:https://austin-ai.org/event/best-llm-genai-pro-tips-tricks-and-hacks/
LOCATION:TX
ATTACH;FMTTYPE=image/png:https://austin-ai.org/wp-content/uploads/2025/03/austin-forum-1.png
END:VEVENT
END:VCALENDAR