BEGIN:VCALENDAR
VERSION:2.0
PRODID:-//Austin AI Alliance - ECPv6.15.20//NONSGML v1.0//EN
CALSCALE:GREGORIAN
METHOD:PUBLISH
X-WR-CALNAME:Austin AI Alliance
X-ORIGINAL-URL:https://austin-ai.org
X-WR-CALDESC:Events for Austin AI Alliance
REFRESH-INTERVAL;VALUE=DURATION:PT1H
X-Robots-Tag:noindex
X-PUBLISHED-TTL:PT1H
BEGIN:VTIMEZONE
TZID:America/Chicago
BEGIN:DAYLIGHT
TZOFFSETFROM:-0600
TZOFFSETTO:-0500
TZNAME:CDT
DTSTART:20240310T080000
END:DAYLIGHT
BEGIN:STANDARD
TZOFFSETFROM:-0500
TZOFFSETTO:-0600
TZNAME:CST
DTSTART:20241103T070000
END:STANDARD
BEGIN:DAYLIGHT
TZOFFSETFROM:-0600
TZOFFSETTO:-0500
TZNAME:CDT
DTSTART:20250309T080000
END:DAYLIGHT
BEGIN:STANDARD
TZOFFSETFROM:-0500
TZOFFSETTO:-0600
TZNAME:CST
DTSTART:20251102T070000
END:STANDARD
BEGIN:DAYLIGHT
TZOFFSETFROM:-0600
TZOFFSETTO:-0500
TZNAME:CDT
DTSTART:20260308T080000
END:DAYLIGHT
BEGIN:STANDARD
TZOFFSETFROM:-0500
TZOFFSETTO:-0600
TZNAME:CST
DTSTART:20261101T070000
END:STANDARD
END:VTIMEZONE
BEGIN:VEVENT
DTSTART;TZID=America/Chicago:20250404T080000
DTEND;TZID=America/Chicago:20250404T170000
DTSTAMP:20260424T061429
CREATED:20250328T162413Z
LAST-MODIFIED:20250328T162413Z
UID:10000008-1743753600-1743786000@austin-ai.org
SUMMARY:AI in Finance: Navigating the Future
DESCRIPTION:The Bill Munday School of Business at St. Edward’s University\, the McCoy College of Business at Texas State University\, the Spears School of Business at Oklahoma State University\, and The Python Quantsare pleased to co-host the 2nd Annual AI in Finance Conference in Austin\, Texas. Join us for a full day of academic and industry presentations\, keynote and plenary addresses\, and networking opportunities. Explore how AI-driven innovations are shaping finance and what that means for academics\, businesses\, investors\, and consumers. All presentation proposals were refereed by a scientific committee\, and all attendees must register in advance. The full conference program is available here.
URL:https://austin-ai.org/event/ai-in-finance-navigating-the-future/
LOCATION:TX
ATTACH;FMTTYPE=image/png:https://austin-ai.org/wp-content/uploads/2025/03/ai-in-finance-austin.png
END:VEVENT
END:VCALENDAR